BEGIN:VCALENDAR
VERSION:2.0
PRODID:-//D64 – Zentrum für digitalen Fortschritt - ECPv6.15.20//NONSGML v1.0//EN
CALSCALE:GREGORIAN
METHOD:PUBLISH
X-WR-CALNAME:D64 – Zentrum für digitalen Fortschritt
X-ORIGINAL-URL:https://d-64.org
X-WR-CALDESC:Veranstaltungen für D64 – Zentrum für digitalen Fortschritt
REFRESH-INTERVAL;VALUE=DURATION:PT1H
X-Robots-Tag:noindex
X-PUBLISHED-TTL:PT1H
BEGIN:VTIMEZONE
TZID:Europe/Berlin
BEGIN:DAYLIGHT
TZOFFSETFROM:+0100
TZOFFSETTO:+0200
TZNAME:CEST
DTSTART:20250330T010000
END:DAYLIGHT
BEGIN:STANDARD
TZOFFSETFROM:+0200
TZOFFSETTO:+0100
TZNAME:CET
DTSTART:20251026T010000
END:STANDARD
BEGIN:DAYLIGHT
TZOFFSETFROM:+0100
TZOFFSETTO:+0200
TZNAME:CEST
DTSTART:20260329T010000
END:DAYLIGHT
BEGIN:STANDARD
TZOFFSETFROM:+0200
TZOFFSETTO:+0100
TZNAME:CET
DTSTART:20261025T010000
END:STANDARD
BEGIN:DAYLIGHT
TZOFFSETFROM:+0100
TZOFFSETTO:+0200
TZNAME:CEST
DTSTART:20270328T010000
END:DAYLIGHT
BEGIN:STANDARD
TZOFFSETFROM:+0200
TZOFFSETTO:+0100
TZNAME:CET
DTSTART:20271031T010000
END:STANDARD
END:VTIMEZONE
BEGIN:VEVENT
DTSTART;TZID=Europe/Berlin:20260420T180000
DTEND;TZID=Europe/Berlin:20260420T223000
DTSTAMP:20260420T150621
CREATED:20260129T164811Z
LAST-MODIFIED:20260417T073120Z
UID:27542-1776708000-1776724200@d-64.org
SUMMARY:D64-Frühjahrsempfang 2026: MöglichMachen – Verantwortung für unsere digitale Öffentlichkeit
DESCRIPTION:Der jährliche D64-Frühjahrsempfang findet dieses Jahr unter dem Titel „MöglichMachen – Verantwortung für unsere digitale Öffentlichkeit“ am Montag\, dem 20. April 2026 statt. Die Veranstaltung beginnt um 19.00 Uhr\, Einlass ist ab 18.00 Uhr möglich. Damit diskutieren wir über einen Teilaspekt unseres Jahresthemas „MöglichMachen – Unsere digitale Zukunft gestalten„. \nWie kann digitale Teilhabe im ländlichen Raum gelingen und welche Verantwortung tragen Politik\, Zivilgesellschaft und Wirtschaft dabei? \nUm diese Frage zu beantworten\, veranstalten wir am Montag\, den 20. April 2026\, ab 19:00 Uhr unseren Frühjahrsempfang unter dem Titel „MöglichMachen – Verantwortung für unsere digitale Öffentlichkeit“. Während digitalpolitische Debatten oft auf urbane Zentren fokussiert sind\, richtet unser Panel den Blick bewusst auf den ländlichen Raum: Wie sieht zivilgesellschaftliches Engagement für eine starke digitale Öffentlichkeit dort aus\, wo Infrastruktur fehlt\, Wege weit und Ressourcen knapp sind? Welche Barrieren stehen Akteur:innen im Weg und welche kreativen Lösungen entstehen dennoch vor Ort? \n\nWir möchten an dieser Stelle herzlich unseren Sponsor:innen danken\, die mit ihrer Unterstützung sehr zum Gelingen der Veranstaltung beitragen: \nCrowdInsights ist eine digitale Beteiligungsplattform für Kommunen.\nSurfshark ist ein Anbieter von VPN- und Cybersicherheitslösungen.\nHumHub GmbH & Co. KG\, eine Open-Source-Software für interne Kommunikation und Zusammenarbeit. \n\nWir freuen uns sehr\, jetzt auch die Teilnehmer:innen der Diskussion bekanntgeben zu können: Anna Kassautzki\, Katarina Peranić und Donata Vogtschmidt! \n\n\nAnna Kassautzki ist Staatswissenschaftlerin und war von 2021 bis 2025 direkt gewählte Bundestagsabgeordnete der SPD für den Wahlkreis Vorpommern-Rügen – Vorpommern-Greifswald I. Sie engagiert sich beim Port39 e.V.\, dem Chaos Computer Club Stralsund\, für digitales Ehrenamt im ländlichen Raum und ist Projektleiterin und Datenschutzbeauftragte bei der RAA Mecklenburg-Vorpommern. \n\n\nKatarina Peranić ist seit 2026 Executive Director von More in Common Deutschland. Sie bringt langjährige Erfahrung aus dem Aufbau und der Führung von wirkungsorientierten Organisationen mit\, zuletzt von 2020-2026 als Gründungsvorständin der Deutschen Stiftung für Engagement und Ehrenamt (DSEE)\, davor als geschäftsführendes Vorstandsmitglied der Stiftung Bürgermut. Katarina Peranić ist Diplom Politologin und zertifizierte Stiftungsmanagerin (DSA). Ehrenamtlich engagiert sie sich als Stiftungskuratorin und Beirätin. \n\n\nDonata Vogtschmidt (*1998) ist eine deutsche Politikerin der Partei Die Linke und seit 2025 Mitglied des Deutschen Bundestages. Zuvor gehörte sie von 2021 bis 2024 dem Thüringer Landtag als jüngste Abgeordnete an. Im Bundestag ist Donata Vogtschmidt Sprecherin für Digitalpolitik und Cybersecurity der Fraktion Die Linke\, Obfrau im Ausschuss für Digitales und Staatsmodernisierung\, Mitglied im Verteidigungsausschuss sowie stellvertretendes Mitglied im Ausschuss für Forschung\, Technologie und Raumfahrt sowie der Enquete-Kommission „Aufarbeitung der Corona-Pandemie und Lehren für zukünftige pandemische Ereignisse“. Vogtschmidt lebt in Thüringen\, ist Frontfrau einer Band und hat ein Kind. \n\n\nIm Anschluss laden wir herzlich zu einem Get-together ein. Hier haben Vertreter:innen aus Zivilgesellschaft\, Forschung\, Wirtschaft und Politik die Gelegenheit\, sich auszutauschen und zu vernetzen. \nDie Teilnahme ist kostenlos\, die Anzahl der Plätze jedoch begrenzt. Eine Anmeldung ist daher erforderlich. Wie jedes Jahr halten wir ein Kontingent an Plätzen für unsere Vereinsmitglieder frei. Wir prüfen jede Anmeldung und behalten uns vor\, Tickets vor Veranstaltungsbeginn zurückzuziehen. \nDie Anmeldung ist ab sofort geschlossen. In dringenden Fällen wendet euch bitte an veranstaltung@d-64.org. \nBitte beachtet\, dass im Rahmen unserer Öffentlichkeitsarbeit Foto- und Videoaufnahmen gemacht werden\, die auf unseren Online-Kanälen veröffentlicht werden können. \nWir freuen uns auf eure Teilnahme und einen inspirierenden Abend! Mit der Anmeldung erklärt ihr euch einverstanden\, eine Anmeldebestätigung\, sowie eine Nachbereitungszeit mit Links zu unserem Blogpost zu erhalten.
URL:https://d-64.org/veranstaltungen/d64-fje-2026/
LOCATION:Festsaal der Berliner Stadtmission\, Lehrter Straße 68\, Berlin\, 10557\, Germany
ATTACH;FMTTYPE=image/png:https://d-64.org/wp-content/uploads/2026/01/20260316_Montage_FJE.png
END:VEVENT
BEGIN:VEVENT
DTSTART;TZID=Europe/Berlin:20260421T180000
DTEND;TZID=Europe/Berlin:20260421T190000
DTSTAMP:20260420T150621
CREATED:20251118T141636Z
LAST-MODIFIED:20260325T110646Z
UID:27255-1776794400-1776798000@d-64.org
SUMMARY:Jour Fixe AG Zukunft der Arbeit
DESCRIPTION:Die AG Zukunft der Arbeit trifft sich am 21. April 2026 von 18.00 Uhr – 19.00 Uhr zu ihrem monatlichen AG Termin. Das Treffen findet digital statt und ist nur für Mitglieder. Den Link zum Termin\, sowie weiterführende Informationen findet ihr in unserem digitalen Vereinsheim im Kalender. \nDie Zukunft der Arbeit wird von der Digitalisierung auf viele Arten und Weisen geprägt. Die Verwendung von Mobilgeräten und cloudbasierter Software ermöglicht flexibles Arbeiten und bietet Chancen für die Entwicklung des ländlichen Raums. Plattformen fungieren heute als Arbeitsvermittler\, nicht nur in der Logistik\, sondern auch in der Wissensarbeit. Die Automatisierung von Arbeit führt zu Fragen bezüglich der Aus- und Weiterbildung von Menschen. Die AG Zukunft der Arbeit beschäftigt sich mit diesen Themen\, um eine faire und gerechte Arbeitswelt zu schaffen. \nInteressiert? Jetzt Mitglied werden!
URL:https://d-64.org/veranstaltungen/jour-fixe-ag-zukunft-der-arbeit/
LOCATION:Berlin
ATTACH;FMTTYPE=image/jpeg:https://d-64.org/wp-content/uploads/2025/10/Bildschirmfoto-2025-10-28-um-14.41.01.jpg
END:VEVENT
BEGIN:VEVENT
DTSTART;TZID=Europe/Berlin:20260422T180000
DTEND;TZID=Europe/Berlin:20260422T193000
DTSTAMP:20260420T150621
CREATED:20260204T111234Z
LAST-MODIFIED:20260331T101247Z
UID:27590-1776880800-1776886200@d-64.org
SUMMARY:NEUER TERMIN: Werkstattgespräch: Einheitlichkeit oder Geschwindigkeit? Verwaltungsdigitalisierung im Föderalstaat
DESCRIPTION:Wir freuen uns\, einen neuen Termin bekannt geben zu können. \nIm Rahmen eines vereinsinternen Werkstattgesprächs kommen wir für einen anderthalbstündigen Austausch mit Bijan Kaffenberger\, MdL (Hessen) zusammen. \nIm Fokus stehen die aktuellen Modernisierungsagenden von Bund und Ländern – und insbesondere der Ansatz einer Digitalisierung in zwei Geschwindigkeiten. Immer mehr Länder lösen sich bewusst vom Prinzip des „kleinsten gemeinsamen Nenners“\, um schneller voranzukommen. Doch wo ist Tempo politisch sinnvoll? Wo braucht es weiterhin Einheitlichkeit? Und wie lässt sich beides im föderalen System produktiv miteinander verbinden? \nDas Gespräch ist als Hintergrund- und Werkstattgespräch angelegt und richtet sich ausschließlich an Mitglieder des Vereins. Uns interessiert vor allem die Landesperspektive: \n\nWo liegen aus Sicht der Länder die Hebel für echte Modernisierung?\nWas fehlt in den aktuellen Agenden von Bund und Ländern?\nWo ist föderale Vielfalt Stärke – und wo wird sie zum Hemmnis?\nIst das Zielbild für Verwaltungsdigitalisierung eigentlich klar genug?\n\nWir freuen uns auf den gemeinsamen Austausch!
URL:https://d-64.org/veranstaltungen/jf-verwaltungsdigitalisierung-kaffenberger/
LOCATION:Videolink
ATTACH;FMTTYPE=image/jpeg:https://d-64.org/wp-content/uploads/2026/02/bijan-kaffenberger-maximiliankoenig-scaled.jpg
END:VEVENT
BEGIN:VEVENT
DTSTART;TZID=Europe/Berlin:20260427T190000
DTEND;TZID=Europe/Berlin:20260427T203000
DTSTAMP:20260420T150621
CREATED:20260119T134658Z
LAST-MODIFIED:20260410T103918Z
UID:27430-1777316400-1777321800@d-64.org
SUMMARY:AG Künstliche Intelligenz Treffen
DESCRIPTION:Die AG Künstliche Intelligenz trifft sich am 27. April 2026 von 19.00 Uhr – 20.30 Uhr zu ihrem monatlichen AG Termin. Das Treffen findet digital statt und ist nur für Mitglieder. Den Link zum Termin\, sowie weiterführende Informationen findet ihr in unserem  digitalen Vereinsheim im Kalender. \nDie AG Künstliche Intelligenz unterstützt den interdisziplinären Austausch zwischen unterschiedlichen Fachrichtungen auf diesem Gebiet. Wir betrachten dieses faszinierende Thema aus verschiedenen Perspektiven. Dabei ist es uns wichtig\, sowohl über mögliche Risiken beim Einsatz von KI zu diskutieren als auch konstruktiv das Potenzial von KI für die Gesellschaft hervorzuheben. Aktuell befassen wir uns mit dem Thema Diversität und KI in Forschung\, Wirtschaft und Gesellschaft. \nInteressiert? Jetzt Mitglied werden!
URL:https://d-64.org/veranstaltungen/ag-ki-treffen-copy/
LOCATION:Berlin
ATTACH;FMTTYPE=image/png:https://d-64.org/wp-content/uploads/2025/05/2021-10-30-D64-Superklausur-Photo-by-Fionn-Grosse-11h-03min-44s-905833-1-scaled.png
END:VEVENT
BEGIN:VEVENT
DTSTART;TZID=Europe/Berlin:20260428T183000
DTEND;TZID=Europe/Berlin:20260428T193000
DTSTAMP:20260420T150621
CREATED:20251118T142946Z
LAST-MODIFIED:20260410T104052Z
UID:27263-1777401000-1777404600@d-64.org
SUMMARY:Jour Fixe AG Cybersecurity
DESCRIPTION:Die AG Cybersecurity trifft sich am 28. April 2026 von 18.30 Uhr – 19.30 Uhr zu ihrem monatlichen AG Termin. Das Treffen findet digital statt. Den Link zum Termin\, sowie weiterführende Informationen findet ihr in unserem  digitalen Vereinsheim im Kalender. \nInformationssicherheit ist die Voraussetzung einer gelungenen Digitalisierung“ – dieses Motto der Cybersicherheitsbehörde des Bundes (BSI) fasst auch die Mission der AG Cybersecurity gut zusammen. Wir behandeln Informationssicherheit als Aufgabe sowohl auf politischer und regulatorischer Ebene als auch im technisch-organisatorischen Sinne: resiliente Infrastrukturen\, Schutz der Gesellschaft vor fahrlässigen oder bösartigen Gefährdungen\, Aufklärung und Konzepte zur Stärkung der Widerstandsfähigkeit von Systemen und Nutzer:innen. \nInteressiert? Jetzt Mitglied werden!
URL:https://d-64.org/veranstaltungen/jour-fixe-ag-cybersecurity/
LOCATION:Berlin
ATTACH;FMTTYPE=image/jpeg:https://d-64.org/wp-content/uploads/2025/10/20251024_Superklausur_Johann-Lensing-8-1.jpg
END:VEVENT
BEGIN:VEVENT
DTSTART;TZID=Europe/Berlin:20260428T200000
DTEND;TZID=Europe/Berlin:20260428T213000
DTSTAMP:20260420T150621
CREATED:20250328T110403Z
LAST-MODIFIED:20260410T104225Z
UID:25270-1777406400-1777411800@d-64.org
SUMMARY:Jour Fixe der AG Bildung
DESCRIPTION:Die AG Zukunft der Arbeit trifft sich am  28. April 2026 von 20.00 Uhr – 21.30 Uhr zu ihrem monatlichen AG Termin. Das Treffen findet digital statt und ist nur für Mitglieder. Den Link zum Termin\, sowie weiterführende Informationen findet ihr in unserem  digitalen Vereinsheim im Kalender. \nDie AG Bildung befasst sich mit allen Fragen der Bildung im digitalen Zeitalter. Welche Haltungen\, Prozesse und Rollen des Lehrens und Lernens in der digitalen Transformation erforderlich sind und wie diese erreicht werden können\, stehen dabei im Mittelpunkt. Wir verstehen Lernen als lebenslange Aufgabe\, die in allen Alters- und Lebensphasen stattfindet. Mit Texten\, Projekten und Veranstaltungen geben wir wichtige Impulse und pflegen den Austausch und Dialog mit Politik\, Verwaltung und Zivilgesellschaft. \nInteressiert? Jetzt Mitglied werden!
URL:https://d-64.org/veranstaltungen/monatlicher-jour-fixe-der-ag-bildung-copy/
LOCATION:Vereinsheim
ATTACH;FMTTYPE=image/jpeg:https://d-64.org/wp-content/uploads/2024/03/2021-10-29-D64-Superklausur-Photo-by-Fionn-Grosse-19h-33min-19s-905329-scaled.jpg
END:VEVENT
BEGIN:VEVENT
DTSTART;TZID=Europe/Berlin:20260430T200000
DTEND;TZID=Europe/Berlin:20260430T210000
DTSTAMP:20260420T150621
CREATED:20250207T195358Z
LAST-MODIFIED:20260410T104339Z
UID:24495-1777579200-1777582800@d-64.org
SUMMARY:AG Digitale Demokratie - Treffen
DESCRIPTION:Die AG Digitale Demokratie trifft sich am 30. April 2026 von 20.00 Uhr – 21.00 Uhr zu ihrem monatlichen AG Termin. Das Treffen findet digital statt. Den Link zum Termin\, sowie weiterführende Informationen findet ihr in unserem digitalen Vereinsheim im Kalender. \nDie AG Digitale Demokratie beschäftigt sich mit dem Einfluss der Digitalisierung auf unsere Gesellschaft und politischen Strukturen. Wir setzen Schwerpunkte auf Desinformation und Plattformen\, systemische Fragen sowie Partizipation und entwickeln Leitlinien für eine digitalisierte Demokratie. Für das Superwahljahr 2021 erstellten wir Verhaltensrichtlinien für Parteien im Wahlkampf sowie Leitfäden für Kandidierende zum Umgang mit Desinformation\, Fakes und Shitstorms. \nInteressiert? Jetzt Mitglied werden!
URL:https://d-64.org/veranstaltungen/monatliches-treffen-der-ag-digitale-demokratie/
LOCATION:Vereinsheim
ATTACH;FMTTYPE=image/jpeg:https://d-64.org/wp-content/uploads/2024/01/2023-06-06-Republica-2023-Photo-by-Fionn-Grosse-11h-16min-53s-101329-scaled.jpg
END:VEVENT
BEGIN:VEVENT
DTSTART;TZID=Europe/Berlin:20260527T190000
DTEND;TZID=Europe/Berlin:20260527T203000
DTSTAMP:20260420T150621
CREATED:20260401T073621Z
LAST-MODIFIED:20260401T075009Z
UID:27998-1779908400-1779913800@d-64.org
SUMMARY:Kreativ für den Algorithmus: Ein Dialog zwischen Literatur & Digitalität
DESCRIPTION:Für viele kreativ Arbeitende sind digitale Plattformen sowohl Bühne als auch Türsteher. Sie haben Einfluss darauf\, welche Literatur wahrgenommen wird und welche nicht. Der für den deutschen Buchpreis 2025 nominierte Roman „Am Samstag gehen die Mädchen in den Wald und jagen Sachen in die Luft“ von Fiona Sironic verdeutlicht\, wie sehr die digitale Öffentlichkeit unser Leben beeinflusst. Dabei beobachtet die Protagonistin\, wie zwei Jugendliche ihre Vergangenheit im Netz löschen\, während sie selbst versucht\, eine verschwindende Welt festzuhalten. \nBeim Verein D64 wollen wir uns dem Zusammenspiel von digitalen Plattformen und Kulturproduktion widmen. Dazu haben wir neben Fiona Sironic auch Clarissa Walter\, Wissenschaftlerin am Weizenbaum-Institut Berlin eingeladen. Clarissa untersucht\, wie unsere Vorstellungen von Algorithmen unser Verhalten beeinflussen\, selbst wenn wir die zu Grunde liegenden Regeln nur erraten können. In ihrer Forschung beleuchtet sie\, wie Algorithmen die Produktion digitaler Inhalte der Wissenschaftskommunikation beeinflussen aufgrund der Macht\, die sie über Sichtbarkeit ausüben. \nWie beeinflussen Aufrufe\, Likes und Verweildauer unsere Sicht auf die Qualität von Texten? Wie können wir digitale Plattformen nutzen\, ohne unsere eigene künstlerische Stimme zu verlieren? Diese und weitere Fragen wollen wir im Dialog zwischen Clarissas Forschung und Fionas Roman am 27.05. ab 19.00 Uhr in den Räumlichkeiten der Lettrétage e.v. gemeinsam mit Euch diskutieren. \nZu diesem Austausch zwischen literarischer Praxis und Erforschung von Digitalität laden wir alle ein\, die selbst schreiben und sich mit dem wachsenden Einfluss von Plattformen auf kreative Arbeit interessieren. \nWeitere Informationen zur Veranstaltung findet ihr hier.
URL:https://d-64.org/veranstaltungen/kreativ-fuer-den-algorithmus/
LOCATION:Lettrétage\, Veteranenstr. 21\, 10119 Berlin\, Veteranenstr. 21\, Lettrétage\, Berlin\, 10119\, Germany
ATTACH;FMTTYPE=image/png:https://d-64.org/wp-content/uploads/2026/04/Sharepic-fuer-VA-Seite.png
END:VEVENT
END:VCALENDAR